BEGIN:VCALENDAR
VERSION:2.0
PRODID:-//Luthier&#039;s Co-op - ECPv5.14.1//NONSGML v1.0//EN
CALSCALE:GREGORIAN
METHOD:PUBLISH
X-WR-CALNAME:Luthier&#039;s Co-op
X-ORIGINAL-URL:https://www.luthiers-coop.com
X-WR-CALDESC:Events for Luthier&#039;s Co-op
BEGIN:VTIMEZONE
TZID:America/New_York
BEGIN:DAYLIGHT
TZOFFSETFROM:-0500
TZOFFSETTO:-0400
TZNAME:EDT
DTSTART:20200308T070000
END:DAYLIGHT
BEGIN:STANDARD
TZOFFSETFROM:-0400
TZOFFSETTO:-0500
TZNAME:EST
DTSTART:20201101T060000
END:STANDARD
BEGIN:DAYLIGHT
TZOFFSETFROM:-0500
TZOFFSETTO:-0400
TZNAME:EDT
DTSTART:20210314T070000
END:DAYLIGHT
BEGIN:STANDARD
TZOFFSETFROM:-0400
TZOFFSETTO:-0500
TZNAME:EST
DTSTART:20211107T060000
END:STANDARD
END:VTIMEZONE
BEGIN:VEVENT
DTSTART;VALUE=DATE:20200313
DTEND;VALUE=DATE:20210725
DTSTAMP:20260423T034230
CREATED:20200313T181736Z
LAST-MODIFIED:20210610T184436Z
UID:21619-1584057600-1627171199@www.luthiers-coop.com
SUMMARY:ONSITE PUBLIC EVENTS CURRENTLY CANCELED DUE TO COVID-19
DESCRIPTION:
URL:https://www.luthiers-coop.com/event/all-events-canceled-for-the-rest-of-march/
END:VEVENT
BEGIN:VEVENT
DTSTART;TZID=America/New_York:20200509T183000
DTEND;TZID=America/New_York:20200509T190000
DTSTAMP:20260423T034230
CREATED:20200130T211903Z
LAST-MODIFIED:20200130T211903Z
UID:21443-1589049000-1589050800@www.luthiers-coop.com
SUMMARY:Now's The Time 6-7
DESCRIPTION:
URL:https://www.luthiers-coop.com/event/nows-the-time-6-7/
END:VEVENT
BEGIN:VEVENT
DTSTART;TZID=America/New_York:20200509T191500
DTEND;TZID=America/New_York:20200509T201500
DTSTAMP:20260423T034230
CREATED:20200130T211950Z
LAST-MODIFIED:20200130T211950Z
UID:21445-1589051700-1589055300@www.luthiers-coop.com
SUMMARY:Secondary Messengers 7:15-8:15
DESCRIPTION:
URL:https://www.luthiers-coop.com/event/secondary-messengers-715-815/
END:VEVENT
BEGIN:VEVENT
DTSTART;TZID=America/New_York:20200509T203000
DTEND;TZID=America/New_York:20200509T213000
DTSTAMP:20260423T034230
CREATED:20200130T212026Z
LAST-MODIFIED:20200130T212026Z
UID:21447-1589056200-1589059800@www.luthiers-coop.com
SUMMARY:Belmont/Kurtz Group 8:30-9:30
DESCRIPTION:
URL:https://www.luthiers-coop.com/event/belmont-kurtz-group-830-930/
END:VEVENT
BEGIN:VEVENT
DTSTART;TZID=America/New_York:20200509T213000
DTEND;TZID=America/New_York:20200509T230000
DTSTAMP:20260423T034230
CREATED:20200130T205654Z
LAST-MODIFIED:20200130T205654Z
UID:21423-1589059800-1589065200@www.luthiers-coop.com
SUMMARY:Cold Chocolate 9:30-11
DESCRIPTION:
URL:https://www.luthiers-coop.com/event/cold-chocolate-930-11/
END:VEVENT
END:VCALENDAR