BEGIN:VCALENDAR
VERSION:2.0
PRODID:-//Luthier&#039;s Co-op - ECPv5.14.1//NONSGML v1.0//EN
CALSCALE:GREGORIAN
METHOD:PUBLISH
X-WR-CALNAME:Luthier&#039;s Co-op
X-ORIGINAL-URL:https://www.luthiers-coop.com
X-WR-CALDESC:Events for Luthier&#039;s Co-op
BEGIN:VTIMEZONE
TZID:America/New_York
BEGIN:DAYLIGHT
TZOFFSETFROM:-0500
TZOFFSETTO:-0400
TZNAME:EDT
DTSTART:20200308T070000
END:DAYLIGHT
BEGIN:STANDARD
TZOFFSETFROM:-0400
TZOFFSETTO:-0500
TZNAME:EST
DTSTART:20201101T060000
END:STANDARD
BEGIN:DAYLIGHT
TZOFFSETFROM:-0500
TZOFFSETTO:-0400
TZNAME:EDT
DTSTART:20210314T070000
END:DAYLIGHT
BEGIN:STANDARD
TZOFFSETFROM:-0400
TZOFFSETTO:-0500
TZNAME:EST
DTSTART:20211107T060000
END:STANDARD
END:VTIMEZONE
BEGIN:VEVENT
DTSTART;VALUE=DATE:20200313
DTEND;VALUE=DATE:20210725
DTSTAMP:20260425T062849
CREATED:20200313T181736Z
LAST-MODIFIED:20210610T184436Z
UID:21619-1584057600-1627171199@www.luthiers-coop.com
SUMMARY:ONSITE PUBLIC EVENTS CURRENTLY CANCELED DUE TO COVID-19
DESCRIPTION:
URL:https://www.luthiers-coop.com/event/all-events-canceled-for-the-rest-of-march/
END:VEVENT
BEGIN:VEVENT
DTSTART;TZID=America/New_York:20200508T190000
DTEND;TZID=America/New_York:20200508T200000
DTSTAMP:20260425T062849
CREATED:20200227T183424Z
LAST-MODIFIED:20200227T183424Z
UID:21535-1588964400-1588968000@www.luthiers-coop.com
SUMMARY:Kristin Rebecca 7-8
DESCRIPTION:
URL:https://www.luthiers-coop.com/event/kristin-rebecca-7-8/
END:VEVENT
BEGIN:VEVENT
DTSTART;TZID=America/New_York:20200508T200000
DTEND;TZID=America/New_York:20200508T213000
DTSTAMP:20260425T062849
CREATED:20200130T181635Z
LAST-MODIFIED:20200130T181635Z
UID:21403-1588968000-1588973400@www.luthiers-coop.com
SUMMARY:Jim Eagan & Anand Nayak 8-9:30
DESCRIPTION:
URL:https://www.luthiers-coop.com/event/jim-eagan-anand-nayak-8-930-3/
END:VEVENT
BEGIN:VEVENT
DTSTART;TZID=America/New_York:20200508T213000
DTEND;TZID=America/New_York:20200508T230000
DTSTAMP:20260425T062849
CREATED:20200123T190517Z
LAST-MODIFIED:20200130T181607Z
UID:21328-1588973400-1588978800@www.luthiers-coop.com
SUMMARY:Corey Laitman Trio 9:30-11
DESCRIPTION:
URL:https://www.luthiers-coop.com/event/corey-laitman-trio-8-930/
END:VEVENT
END:VCALENDAR