BEGIN:VCALENDAR
VERSION:2.0
PRODID:-//Luthier&#039;s Co-op - ECPv5.14.1//NONSGML v1.0//EN
CALSCALE:GREGORIAN
METHOD:PUBLISH
X-WR-CALNAME:Luthier&#039;s Co-op
X-ORIGINAL-URL:https://www.luthiers-coop.com
X-WR-CALDESC:Events for Luthier&#039;s Co-op
BEGIN:VTIMEZONE
TZID:America/New_York
BEGIN:DAYLIGHT
TZOFFSETFROM:-0500
TZOFFSETTO:-0400
TZNAME:EDT
DTSTART:20200308T070000
END:DAYLIGHT
BEGIN:STANDARD
TZOFFSETFROM:-0400
TZOFFSETTO:-0500
TZNAME:EST
DTSTART:20201101T060000
END:STANDARD
END:VTIMEZONE
BEGIN:VEVENT
DTSTART;TZID=America/New_York:20200131T183000
DTEND;TZID=America/New_York:20200131T230000
DTSTAMP:20260421T232123
CREATED:20190905T174215Z
LAST-MODIFIED:20190905T174248Z
UID:20759-1580495400-1580511600@www.luthiers-coop.com
SUMMARY:The Bamboo Steamers CD Release Show!!
DESCRIPTION:
URL:https://www.luthiers-coop.com/event/the-bamboo-steamers-cd-release-show/
END:VEVENT
END:VCALENDAR