BEGIN:VCALENDAR
VERSION:2.0
PRODID:-//Luthier&#039;s Co-op - ECPv5.14.1//NONSGML v1.0//EN
CALSCALE:GREGORIAN
METHOD:PUBLISH
X-WR-CALNAME:Luthier&#039;s Co-op
X-ORIGINAL-URL:https://www.luthiers-coop.com
X-WR-CALDESC:Events for Luthier&#039;s Co-op
BEGIN:VTIMEZONE
TZID:America/New_York
BEGIN:DAYLIGHT
TZOFFSETFROM:-0500
TZOFFSETTO:-0400
TZNAME:EDT
DTSTART:20240310T070000
END:DAYLIGHT
BEGIN:STANDARD
TZOFFSETFROM:-0400
TZOFFSETTO:-0500
TZNAME:EST
DTSTART:20241103T060000
END:STANDARD
END:VTIMEZONE
BEGIN:VEVENT
DTSTART;TZID=America/New_York:20240913T190000
DTEND;TZID=America/New_York:20240913T200000
DTSTAMP:20260420T154125
CREATED:20240527T021412Z
LAST-MODIFIED:20240527T021412Z
UID:33659-1726254000-1726257600@www.luthiers-coop.com
SUMMARY:Reese Fulmer\, 7-8
DESCRIPTION:
URL:https://www.luthiers-coop.com/event/reese-fulmer-7-8/
END:VEVENT
END:VCALENDAR