BEGIN:VCALENDAR
VERSION:2.0
PRODID:-//Luthier&#039;s Co-op - ECPv5.14.1//NONSGML v1.0//EN
CALSCALE:GREGORIAN
METHOD:PUBLISH
X-WR-CALNAME:Luthier&#039;s Co-op
X-ORIGINAL-URL:https://www.luthiers-coop.com
X-WR-CALDESC:Events for Luthier&#039;s Co-op
BEGIN:VTIMEZONE
TZID:America/New_York
BEGIN:DAYLIGHT
TZOFFSETFROM:-0500
TZOFFSETTO:-0400
TZNAME:EDT
DTSTART:20190310T070000
END:DAYLIGHT
BEGIN:STANDARD
TZOFFSETFROM:-0400
TZOFFSETTO:-0500
TZNAME:EST
DTSTART:20191103T060000
END:STANDARD
END:VTIMEZONE
BEGIN:VEVENT
DTSTART;TZID=America/New_York:20191228T190000
DTEND;TZID=America/New_York:20191228T200000
DTSTAMP:20260426T003035
CREATED:20190829T174450Z
LAST-MODIFIED:20190829T174450Z
UID:20711-1577559600-1577563200@www.luthiers-coop.com
SUMMARY:Peter Lehndorff 7-8
DESCRIPTION:
URL:https://www.luthiers-coop.com/event/peter-lehndorff-7-8-5/
END:VEVENT
END:VCALENDAR