BEGIN:VCALENDAR
VERSION:2.0
PRODID:-//Luthier&#039;s Co-op - ECPv5.14.1//NONSGML v1.0//EN
CALSCALE:GREGORIAN
METHOD:PUBLISH
X-WR-CALNAME:Luthier&#039;s Co-op
X-ORIGINAL-URL:https://www.luthiers-coop.com
X-WR-CALDESC:Events for Luthier&#039;s Co-op
BEGIN:VTIMEZONE
TZID:America/New_York
BEGIN:DAYLIGHT
TZOFFSETFROM:-0500
TZOFFSETTO:-0400
TZNAME:EDT
DTSTART:20240310T070000
END:DAYLIGHT
BEGIN:STANDARD
TZOFFSETFROM:-0400
TZOFFSETTO:-0500
TZNAME:EST
DTSTART:20241103T060000
END:STANDARD
END:VTIMEZONE
BEGIN:VEVENT
DTSTART;TZID=America/New_York:20240914T200000
DTEND;TZID=America/New_York:20240914T213000
DTSTAMP:20260421T010240
CREATED:20240508T203647Z
LAST-MODIFIED:20240508T203647Z
UID:33497-1726344000-1726349400@www.luthiers-coop.com
SUMMARY:Masala Jazz\, 8-9:30
DESCRIPTION:
URL:https://www.luthiers-coop.com/event/masala-jazz-8-930-19/
END:VEVENT
END:VCALENDAR