BEGIN:VCALENDAR
VERSION:2.0
PRODID:-//Luthier&#039;s Co-op - ECPv5.14.1//NONSGML v1.0//EN
CALSCALE:GREGORIAN
METHOD:PUBLISH
X-WR-CALNAME:Luthier&#039;s Co-op
X-ORIGINAL-URL:https://www.luthiers-coop.com
X-WR-CALDESC:Events for Luthier&#039;s Co-op
BEGIN:VTIMEZONE
TZID:America/New_York
BEGIN:DAYLIGHT
TZOFFSETFROM:-0500
TZOFFSETTO:-0400
TZNAME:EDT
DTSTART:20220313T070000
END:DAYLIGHT
BEGIN:STANDARD
TZOFFSETFROM:-0400
TZOFFSETTO:-0500
TZNAME:EST
DTSTART:20221106T060000
END:STANDARD
END:VTIMEZONE
BEGIN:VEVENT
DTSTART;TZID=America/New_York:20220624T190000
DTEND;TZID=America/New_York:20220624T200000
DTSTAMP:20260421T011837
CREATED:20220320T012214Z
LAST-MODIFIED:20220320T012214Z
UID:26372-1656097200-1656100800@www.luthiers-coop.com
SUMMARY:Jeremy Moses Curtis 7-8
DESCRIPTION:
URL:https://www.luthiers-coop.com/event/jeremy-moses-curtis-7-8/
END:VEVENT
END:VCALENDAR