BEGIN:VCALENDAR
VERSION:2.0
PRODID:-//Luthier&#039;s Co-op - ECPv5.14.1//NONSGML v1.0//EN
CALSCALE:GREGORIAN
METHOD:PUBLISH
X-WR-CALNAME:Luthier&#039;s Co-op
X-ORIGINAL-URL:https://www.luthiers-coop.com
X-WR-CALDESC:Events for Luthier&#039;s Co-op
BEGIN:VTIMEZONE
TZID:America/New_York
BEGIN:DAYLIGHT
TZOFFSETFROM:-0500
TZOFFSETTO:-0400
TZNAME:EDT
DTSTART:20200308T070000
END:DAYLIGHT
BEGIN:STANDARD
TZOFFSETFROM:-0400
TZOFFSETTO:-0500
TZNAME:EST
DTSTART:20201101T060000
END:STANDARD
END:VTIMEZONE
BEGIN:VEVENT
DTSTART;TZID=America/New_York:20200327T190000
DTEND;TZID=America/New_York:20200327T200000
DTSTAMP:20260425T205147
CREATED:20200102T192421Z
LAST-MODIFIED:20200102T192421Z
UID:21239-1585335600-1585339200@www.luthiers-coop.com
SUMMARY:Elyse Langer-Smith 7-8
DESCRIPTION:
URL:https://www.luthiers-coop.com/event/elyse-langer-smith-7-8/
END:VEVENT
END:VCALENDAR