BEGIN:VCALENDAR
VERSION:2.0
PRODID:-//Luthier&#039;s Co-op - ECPv5.14.1//NONSGML v1.0//EN
CALSCALE:GREGORIAN
METHOD:PUBLISH
X-WR-CALNAME:Luthier&#039;s Co-op
X-ORIGINAL-URL:https://www.luthiers-coop.com
X-WR-CALDESC:Events for Luthier&#039;s Co-op
BEGIN:VTIMEZONE
TZID:America/New_York
BEGIN:DAYLIGHT
TZOFFSETFROM:-0500
TZOFFSETTO:-0400
TZNAME:EDT
DTSTART:20260308T070000
END:DAYLIGHT
BEGIN:STANDARD
TZOFFSETFROM:-0400
TZOFFSETTO:-0500
TZNAME:EST
DTSTART:20261101T060000
END:STANDARD
END:VTIMEZONE
BEGIN:VEVENT
DTSTART;TZID=America/New_York:20260508T213000
DTEND;TZID=America/New_York:20260508T230000
DTSTAMP:20260425T230146
CREATED:20260409T013312Z
LAST-MODIFIED:20260411T220853Z
UID:37380-1778275800-1778281200@www.luthiers-coop.com
SUMMARY:Bliss 42\, 9:30-11pm
DESCRIPTION:Bliss 42\n\nSongs from your Life\n \nWe perform familiar and unexpected rock\, pop\, & alternative covers from the 70s to today. Featuring five vocalists and great harmonies\, our engaging sets are always high-energy fun. We’ll have someone check your pulse if you’re not rocking along with us during our show. Let us surprise you!
URL:https://www.luthiers-coop.com/event/bliss-42-930-11pm-2/
END:VEVENT
END:VCALENDAR