BEGIN:VCALENDAR
VERSION:2.0
PRODID:-//Luthier&#039;s Co-op - ECPv5.14.1//NONSGML v1.0//EN
CALSCALE:GREGORIAN
METHOD:PUBLISH
X-WR-CALNAME:Luthier&#039;s Co-op
X-ORIGINAL-URL:https://www.luthiers-coop.com
X-WR-CALDESC:Events for Luthier&#039;s Co-op
BEGIN:VTIMEZONE
TZID:America/New_York
BEGIN:DAYLIGHT
TZOFFSETFROM:-0500
TZOFFSETTO:-0400
TZNAME:EDT
DTSTART:20190310T070000
END:DAYLIGHT
BEGIN:STANDARD
TZOFFSETFROM:-0400
TZOFFSETTO:-0500
TZNAME:EST
DTSTART:20191103T060000
END:STANDARD
END:VTIMEZONE
BEGIN:VEVENT
DTSTART;TZID=America/New_York:20191012T180000
DTEND;TZID=America/New_York:20191012T190000
DTSTAMP:20260421T032925
CREATED:20190718T201603Z
LAST-MODIFIED:20190718T201603Z
UID:20528-1570903200-1570906800@www.luthiers-coop.com
SUMMARY:Belmont/Kurtz Group 6-7
DESCRIPTION:
URL:https://www.luthiers-coop.com/event/belmont-kurtz-group-6-7-2/
END:VEVENT
END:VCALENDAR