BEGIN:VCALENDAR
VERSION:2.0
PRODID:-//Luthier&#039;s Co-op - ECPv5.14.1//NONSGML v1.0//EN
CALSCALE:GREGORIAN
METHOD:PUBLISH
X-WR-CALNAME:Luthier&#039;s Co-op
X-ORIGINAL-URL:https://www.luthiers-coop.com
X-WR-CALDESC:Events for Luthier&#039;s Co-op
BEGIN:VTIMEZONE
TZID:America/New_York
BEGIN:DAYLIGHT
TZOFFSETFROM:-0500
TZOFFSETTO:-0400
TZNAME:EDT
DTSTART:20220313T070000
END:DAYLIGHT
BEGIN:STANDARD
TZOFFSETFROM:-0400
TZOFFSETTO:-0500
TZNAME:EST
DTSTART:20221106T060000
END:STANDARD
END:VTIMEZONE
BEGIN:VEVENT
DTSTART;TZID=America/New_York:20220514T213000
DTEND;TZID=America/New_York:20220514T230000
DTSTAMP:20260423T120357
CREATED:20220116T032520Z
LAST-MODIFIED:20220116T032520Z
UID:25384-1652563800-1652569200@www.luthiers-coop.com
SUMMARY:beasthampton 9:30-11
DESCRIPTION:
URL:https://www.luthiers-coop.com/event/beasthampton-930-11-2/
END:VEVENT
END:VCALENDAR